BEGIN:VCALENDAR
VERSION:2.0
PRODID:-//ADRS Dompierre-sur-Yon - ECPv6.15.20//NONSGML v1.0//EN
CALSCALE:GREGORIAN
METHOD:PUBLISH
X-WR-CALNAME:ADRS Dompierre-sur-Yon
X-ORIGINAL-URL:https://adrs85.fr
X-WR-CALDESC:Évènements pour ADRS Dompierre-sur-Yon
REFRESH-INTERVAL;VALUE=DURATION:PT1H
X-Robots-Tag:noindex
X-PUBLISHED-TTL:PT1H
BEGIN:VTIMEZONE
TZID:Europe/Paris
BEGIN:DAYLIGHT
TZOFFSETFROM:+0100
TZOFFSETTO:+0200
TZNAME:CEST
DTSTART:20240331T010000
END:DAYLIGHT
BEGIN:STANDARD
TZOFFSETFROM:+0200
TZOFFSETTO:+0100
TZNAME:CET
DTSTART:20241027T010000
END:STANDARD
BEGIN:DAYLIGHT
TZOFFSETFROM:+0100
TZOFFSETTO:+0200
TZNAME:CEST
DTSTART:20250330T010000
END:DAYLIGHT
BEGIN:STANDARD
TZOFFSETFROM:+0200
TZOFFSETTO:+0100
TZNAME:CET
DTSTART:20251026T010000
END:STANDARD
BEGIN:DAYLIGHT
TZOFFSETFROM:+0100
TZOFFSETTO:+0200
TZNAME:CEST
DTSTART:20260329T010000
END:DAYLIGHT
BEGIN:STANDARD
TZOFFSETFROM:+0200
TZOFFSETTO:+0100
TZNAME:CET
DTSTART:20261025T010000
END:STANDARD
END:VTIMEZONE
BEGIN:VEVENT
DTSTART;TZID=Europe/Paris:20251004T163000
DTEND;TZID=Europe/Paris:20251004T190000
DTSTAMP:20260426T032813
CREATED:20240902T145332Z
LAST-MODIFIED:20250918T115510Z
UID:764-1759595400-1759604400@adrs85.fr
SUMMARY:Tous Ensemble pour Octobre Rose
DESCRIPTION:Participez à la Marche et Course de 5 km pour Octobre Rose à Dompierre sur Yon ! \nAu programme :\n– 16h30 : Échauffement animé par l’ASLD au jardin municipal Joséphine Baker (derrière la mairie).\n– 17h : Parcours de 5 km organisé par ADRS et DCA.\n– 18h30 : Apéritif musical avec Musique à Dompierre. \nNous vous invitons toutes et tous à vous joindre à nous pour soutenir la lutte contre le cancer du sein. Venez nombreux !
URL:https://adrs85.fr/evenement/animations-pour-la-josephine/
LOCATION:Place de la Résistance\, Place de la Résistance\, Dompierre/Yon\, France
END:VEVENT
END:VCALENDAR