BEGIN:VCALENDAR
VERSION:2.0
PRODID:-//ADRS Dompierre-sur-Yon - ECPv6.15.20//NONSGML v1.0//EN
CALSCALE:GREGORIAN
METHOD:PUBLISH
X-WR-CALNAME:ADRS Dompierre-sur-Yon
X-ORIGINAL-URL:https://adrs85.fr
X-WR-CALDESC:Évènements pour ADRS Dompierre-sur-Yon
REFRESH-INTERVAL;VALUE=DURATION:PT1H
X-Robots-Tag:noindex
X-PUBLISHED-TTL:PT1H
BEGIN:VTIMEZONE
TZID:Europe/Paris
BEGIN:DAYLIGHT
TZOFFSETFROM:+0100
TZOFFSETTO:+0200
TZNAME:CEST
DTSTART:20240331T010000
END:DAYLIGHT
BEGIN:STANDARD
TZOFFSETFROM:+0200
TZOFFSETTO:+0100
TZNAME:CET
DTSTART:20241027T010000
END:STANDARD
BEGIN:DAYLIGHT
TZOFFSETFROM:+0100
TZOFFSETTO:+0200
TZNAME:CEST
DTSTART:20250330T010000
END:DAYLIGHT
BEGIN:STANDARD
TZOFFSETFROM:+0200
TZOFFSETTO:+0100
TZNAME:CET
DTSTART:20251026T010000
END:STANDARD
BEGIN:DAYLIGHT
TZOFFSETFROM:+0100
TZOFFSETTO:+0200
TZNAME:CEST
DTSTART:20260329T010000
END:DAYLIGHT
BEGIN:STANDARD
TZOFFSETFROM:+0200
TZOFFSETTO:+0100
TZNAME:CET
DTSTART:20261025T010000
END:STANDARD
END:VTIMEZONE
BEGIN:VEVENT
DTSTART;VALUE=DATE:20251014
DTEND;VALUE=DATE:20251015
DTSTAMP:20260426T032936
CREATED:20250423T134726Z
LAST-MODIFIED:20250918T120358Z
UID:1275-1760400000-1760486399@adrs85.fr
SUMMARY:Journée Interclubs avec l'ADRS
DESCRIPTION:2025 07 10 ADRS programme Interclubs pour adhérents \n2025 10 14 – ADRS inscription membre adrs v2806 \nChers adhérents\, \nRéservez dès maintenant la date de notre prochain Interclubs\, qui se tiendra le mardi 14 octobre 2025. C’est un événement incontournable pour tous ! \nNous vous encourageons vivement à participer et à vivre cette expérience enrichissante. \nVous trouverez toutes les conditions de participation en suivant les deux liens ci-dessus. \nL’équipe de l’ADRS vous attend avec impatience ! \n 
URL:https://adrs85.fr/evenement/interclubs-organise-par-ladrs/
LOCATION:Salle Magaud\, 8 Rue du Moulin\, Dompierre-sur-Yon\, 85170\, France
END:VEVENT
END:VCALENDAR