BEGIN:VCALENDAR
VERSION:2.0
PRODID:-//ADRS Dompierre-sur-Yon - ECPv6.15.20//NONSGML v1.0//EN
CALSCALE:GREGORIAN
METHOD:PUBLISH
X-WR-CALNAME:ADRS Dompierre-sur-Yon
X-ORIGINAL-URL:https://adrs85.fr
X-WR-CALDESC:Évènements pour ADRS Dompierre-sur-Yon
REFRESH-INTERVAL;VALUE=DURATION:PT1H
X-Robots-Tag:noindex
X-PUBLISHED-TTL:PT1H
BEGIN:VTIMEZONE
TZID:Europe/Paris
BEGIN:DAYLIGHT
TZOFFSETFROM:+0100
TZOFFSETTO:+0200
TZNAME:CEST
DTSTART:20240331T010000
END:DAYLIGHT
BEGIN:STANDARD
TZOFFSETFROM:+0200
TZOFFSETTO:+0100
TZNAME:CET
DTSTART:20241027T010000
END:STANDARD
BEGIN:DAYLIGHT
TZOFFSETFROM:+0100
TZOFFSETTO:+0200
TZNAME:CEST
DTSTART:20250330T010000
END:DAYLIGHT
BEGIN:STANDARD
TZOFFSETFROM:+0200
TZOFFSETTO:+0100
TZNAME:CET
DTSTART:20251026T010000
END:STANDARD
BEGIN:DAYLIGHT
TZOFFSETFROM:+0100
TZOFFSETTO:+0200
TZNAME:CEST
DTSTART:20260329T010000
END:DAYLIGHT
BEGIN:STANDARD
TZOFFSETFROM:+0200
TZOFFSETTO:+0100
TZNAME:CET
DTSTART:20261025T010000
END:STANDARD
END:VTIMEZONE
BEGIN:VEVENT
DTSTART;TZID=Europe/Paris:20251116T143000
DTEND;TZID=Europe/Paris:20251116T170000
DTSTAMP:20260426T015908
CREATED:20251022T155414Z
LAST-MODIFIED:20251028T145353Z
UID:1818-1763303400-1763312400@adrs85.fr
SUMMARY:Spectacle pour le Téléthon
DESCRIPTION:Flyer spectacle TELETHON 2025 _2026 \n  \nSous la houlette de Proscenium\, un spectacle concocté par Musique de Dompierre\, Les Mouss’à Yon\, Coramundi et les danseuses de l’ASLD et l’ADRS.
URL:https://adrs85.fr/evenement/spectacle-pour-le-telethon/
LOCATION:Salle Magaud\, 8 Rue du Moulin\, Dompierre-sur-Yon\, 85170\, France
END:VEVENT
END:VCALENDAR