BEGIN:VCALENDAR
VERSION:2.0
PRODID:-//ADRS Dompierre-sur-Yon - ECPv6.15.20//NONSGML v1.0//EN
CALSCALE:GREGORIAN
METHOD:PUBLISH
X-ORIGINAL-URL:https://adrs85.fr
X-WR-CALDESC:Évènements pour ADRS Dompierre-sur-Yon
REFRESH-INTERVAL;VALUE=DURATION:PT1H
X-Robots-Tag:noindex
X-PUBLISHED-TTL:PT1H
BEGIN:VTIMEZONE
TZID:Europe/Paris
BEGIN:DAYLIGHT
TZOFFSETFROM:+0100
TZOFFSETTO:+0200
TZNAME:CEST
DTSTART:20250330T010000
END:DAYLIGHT
BEGIN:STANDARD
TZOFFSETFROM:+0200
TZOFFSETTO:+0100
TZNAME:CET
DTSTART:20251026T010000
END:STANDARD
BEGIN:DAYLIGHT
TZOFFSETFROM:+0100
TZOFFSETTO:+0200
TZNAME:CEST
DTSTART:20260329T010000
END:DAYLIGHT
BEGIN:STANDARD
TZOFFSETFROM:+0200
TZOFFSETTO:+0100
TZNAME:CET
DTSTART:20261025T010000
END:STANDARD
BEGIN:DAYLIGHT
TZOFFSETFROM:+0100
TZOFFSETTO:+0200
TZNAME:CEST
DTSTART:20270328T010000
END:DAYLIGHT
BEGIN:STANDARD
TZOFFSETFROM:+0200
TZOFFSETTO:+0100
TZNAME:CET
DTSTART:20271031T010000
END:STANDARD
END:VTIMEZONE
BEGIN:VEVENT
DTSTART;TZID=Europe/Paris:20260330T100000
DTEND;TZID=Europe/Paris:20260330T120000
DTSTAMP:20260425T184923
CREATED:20260323T184007Z
LAST-MODIFIED:20260323T195633Z
UID:2094-1774864800-1774872000@adrs85.fr
SUMMARY:Offre spéciale: Bodywarmer et tee-shirt manches longues
DESCRIPTION:ADRS vous proposent une nouvelle gamme de vêtements. \n un bodywarmer softshell (veste légère sans manche) – Prix adhérent : 20€ ( au lieu de 36\,16€) \nun Tee-shirt manches longues (en coton\, col en V) – Prix adhérent : 6€ (au lieu de 13\,08€ \nNous avons planifié des séances d’essayage et de commande :  \nLundi 30 mars 2026 : 10h à 12h et de 14h à 17h à la salle Magaud \nVendredi 3 avril 2026 : 10h à 12h à la salle Magaud. \nD’autre part\, cette offre est exceptionnelle et il n’y aura pas d’autres commandes groupées après cette date\, faute de sponsoring. \n \n 
URL:https://adrs85.fr/evenement/offre-speciele-bodywarmer-et-tee-shirt-manches-longues/
LOCATION:Salle Magaud\, 8 Rue du Moulin\, Dompierre-sur-Yon\, 85170\, France
END:VEVENT
BEGIN:VEVENT
DTSTART;TZID=Europe/Paris:20260330T133000
DTEND;TZID=Europe/Paris:20260330T170000
DTSTAMP:20260425T184923
CREATED:20251220T143419Z
LAST-MODIFIED:20260321T172252Z
UID:1895-1774877400-1774890000@adrs85.fr
SUMMARY:Rencontre Tennis Rebond aux Essarts
DESCRIPTION:Le club des Essarts organise une rencontre Tennis rebond le lundi 30 mars après-midi\, avec les clubs de Poiré-sur-Vie et de Commequiers. \nProgramme :\n– 13h30 : Accueil à la salle omnisports des Essarts\, avec café et brioche\n– 14h00 : Début des jeux\n– Vers 17h00 : Pot d’amitié \nLes inscriptions sont limitées à 3 équipes par club. Merci de vous inscrire avant le 13 mars 2026.
URL:https://adrs85.fr/evenement/rencontre-tennis-rebond-aux-essarts/
LOCATION:Les Essarts
END:VEVENT
END:VCALENDAR