BEGIN:VCALENDAR
VERSION:2.0
PRODID:-//ADRS Dompierre-sur-Yon - ECPv6.15.20//NONSGML v1.0//EN
CALSCALE:GREGORIAN
METHOD:PUBLISH
X-WR-CALNAME:ADRS Dompierre-sur-Yon
X-ORIGINAL-URL:https://adrs85.fr
X-WR-CALDESC:Évènements pour ADRS Dompierre-sur-Yon
REFRESH-INTERVAL;VALUE=DURATION:PT1H
X-Robots-Tag:noindex
X-PUBLISHED-TTL:PT1H
BEGIN:VTIMEZONE
TZID:Europe/Paris
BEGIN:DAYLIGHT
TZOFFSETFROM:+0100
TZOFFSETTO:+0200
TZNAME:CEST
DTSTART:20250330T010000
END:DAYLIGHT
BEGIN:STANDARD
TZOFFSETFROM:+0200
TZOFFSETTO:+0100
TZNAME:CET
DTSTART:20251026T010000
END:STANDARD
BEGIN:DAYLIGHT
TZOFFSETFROM:+0100
TZOFFSETTO:+0200
TZNAME:CEST
DTSTART:20260329T010000
END:DAYLIGHT
BEGIN:STANDARD
TZOFFSETFROM:+0200
TZOFFSETTO:+0100
TZNAME:CET
DTSTART:20261025T010000
END:STANDARD
BEGIN:DAYLIGHT
TZOFFSETFROM:+0100
TZOFFSETTO:+0200
TZNAME:CEST
DTSTART:20270328T010000
END:DAYLIGHT
BEGIN:STANDARD
TZOFFSETFROM:+0200
TZOFFSETTO:+0100
TZNAME:CET
DTSTART:20271031T010000
END:STANDARD
END:VTIMEZONE
BEGIN:VEVENT
DTSTART;VALUE=DATE:20260618
DTEND;VALUE=DATE:20260619
DTSTAMP:20260425T213416
CREATED:20241125T155135Z
LAST-MODIFIED:20260324T143711Z
UID:916-1781740800-1781827199@adrs85.fr
SUMMARY:Rando patrimoine & pique-nique à Malvoisine
DESCRIPTION:Le jeudi 18 juin 2026\, une journée inoubliable aux étangs de Malvoisine.  \n🚶‍♂️ Au programme :\n– 9h30 : Balade patrimoine animée par Dominique François : à la découverte du château de la Haute Braconniére\, de la crypte de l’église et du lavoir !\n– 12h : Apéro offert par l’ADRS \n– 13h : Pique-nique convivial au bord des étangs \n– L’après-midi : Jeux libres \n💡 Infos pratiques :\n– Prévoyez votre pique-nique\, vos boissons\, et si vous souhaitez\,  vos boules de pétanque\, vos palets ou vos jeux de société préférés.\n– Chaussures de marche recommandées. \n– Ouvert à tous ! \n  \n 
URL:https://adrs85.fr/evenement/pique-nique-du-club/
LOCATION:Etangs de Malvoisine\, Malvoisine\, 85170 Dompierre-sur-Yon\, France
END:VEVENT
END:VCALENDAR