BEGIN:VCALENDAR
VERSION:2.0
PRODID:-//ADRS Dompierre-sur-Yon - ECPv6.15.20//NONSGML v1.0//EN
CALSCALE:GREGORIAN
METHOD:PUBLISH
X-WR-CALNAME:ADRS Dompierre-sur-Yon
X-ORIGINAL-URL:https://adrs85.fr
X-WR-CALDESC:Évènements pour ADRS Dompierre-sur-Yon
REFRESH-INTERVAL;VALUE=DURATION:PT1H
X-Robots-Tag:noindex
X-PUBLISHED-TTL:PT1H
BEGIN:VTIMEZONE
TZID:Europe/Paris
BEGIN:DAYLIGHT
TZOFFSETFROM:+0100
TZOFFSETTO:+0200
TZNAME:CEST
DTSTART:20250330T010000
END:DAYLIGHT
BEGIN:STANDARD
TZOFFSETFROM:+0200
TZOFFSETTO:+0100
TZNAME:CET
DTSTART:20251026T010000
END:STANDARD
BEGIN:DAYLIGHT
TZOFFSETFROM:+0100
TZOFFSETTO:+0200
TZNAME:CEST
DTSTART:20260329T010000
END:DAYLIGHT
BEGIN:STANDARD
TZOFFSETFROM:+0200
TZOFFSETTO:+0100
TZNAME:CET
DTSTART:20261025T010000
END:STANDARD
BEGIN:DAYLIGHT
TZOFFSETFROM:+0100
TZOFFSETTO:+0200
TZNAME:CEST
DTSTART:20270328T010000
END:DAYLIGHT
BEGIN:STANDARD
TZOFFSETFROM:+0200
TZOFFSETTO:+0100
TZNAME:CET
DTSTART:20271031T010000
END:STANDARD
END:VTIMEZONE
BEGIN:VEVENT
DTSTART;TZID=Europe/Paris:20260908T093000
DTEND;TZID=Europe/Paris:20260908T120000
DTSTAMP:20260426T002859
CREATED:20250501T093844Z
LAST-MODIFIED:20260321T173643Z
UID:470-1788859800-1788868800@adrs85.fr
SUMMARY:Séance inscriptions saison 2026-2027
DESCRIPTION:Mardi 8 septembre 2026 de 9h30 à 12h00 \nJeudi 10 septembre 2026 de 9h30 à12h00 \nau Centre Espac’Yon\, salle du rez-de-chaussée \nfournir vote fiche adhésion signée et prévoir le paiement (chèque ou par carte bancaire)
URL:https://adrs85.fr/evenement/seance-inscriptions-saison-2025-2026-2/
LOCATION:Centre Espac’Yon\, 20 rue du Vieux Bourg\, 85170 Dompierre-Sur-Yon\, France
END:VEVENT
END:VCALENDAR