BEGIN:VCALENDAR
VERSION:2.0
PRODID:-//ADRS Dompierre-sur-Yon - ECPv6.15.20//NONSGML v1.0//EN
CALSCALE:GREGORIAN
METHOD:PUBLISH
X-ORIGINAL-URL:https://adrs85.fr
X-WR-CALDESC:Évènements pour ADRS Dompierre-sur-Yon
REFRESH-INTERVAL;VALUE=DURATION:PT1H
X-Robots-Tag:noindex
X-PUBLISHED-TTL:PT1H
BEGIN:VTIMEZONE
TZID:Europe/Paris
BEGIN:DAYLIGHT
TZOFFSETFROM:+0100
TZOFFSETTO:+0200
TZNAME:CEST
DTSTART:20250330T010000
END:DAYLIGHT
BEGIN:STANDARD
TZOFFSETFROM:+0200
TZOFFSETTO:+0100
TZNAME:CET
DTSTART:20251026T010000
END:STANDARD
BEGIN:DAYLIGHT
TZOFFSETFROM:+0100
TZOFFSETTO:+0200
TZNAME:CEST
DTSTART:20260329T010000
END:DAYLIGHT
BEGIN:STANDARD
TZOFFSETFROM:+0200
TZOFFSETTO:+0100
TZNAME:CET
DTSTART:20261025T010000
END:STANDARD
BEGIN:DAYLIGHT
TZOFFSETFROM:+0100
TZOFFSETTO:+0200
TZNAME:CEST
DTSTART:20270328T010000
END:DAYLIGHT
BEGIN:STANDARD
TZOFFSETFROM:+0200
TZOFFSETTO:+0100
TZNAME:CET
DTSTART:20271031T010000
END:STANDARD
END:VTIMEZONE
BEGIN:VEVENT
DTSTART;VALUE=DATE:20260914
DTEND;VALUE=DATE:20260915
DTSTAMP:20260426T003012
CREATED:20240420T101027Z
LAST-MODIFIED:20260324T132039Z
UID:474-1789344000-1789430399@adrs85.fr
SUMMARY:Reprise des activités sportives
DESCRIPTION:La saison sportive ADRS redémarre ! \nÀ partir du lundi 14 septembre 2026\, retrouvez vos activités préférées selon le calendrier.
URL:https://adrs85.fr/evenement/reprise-des-activites-sportives/
LOCATION:Salle Magaud\, 8 Rue du Moulin\, Dompierre-sur-Yon\, 85170\, France
END:VEVENT
END:VCALENDAR