BEGIN:VCALENDAR
VERSION:2.0
PRODID:-//ADRS Dompierre-sur-Yon - ECPv6.15.20//NONSGML v1.0//EN
CALSCALE:GREGORIAN
METHOD:PUBLISH
X-WR-CALNAME:ADRS Dompierre-sur-Yon
X-ORIGINAL-URL:https://adrs85.fr
X-WR-CALDESC:Évènements pour ADRS Dompierre-sur-Yon
REFRESH-INTERVAL;VALUE=DURATION:PT1H
X-Robots-Tag:noindex
X-PUBLISHED-TTL:PT1H
BEGIN:VTIMEZONE
TZID:Europe/Paris
BEGIN:DAYLIGHT
TZOFFSETFROM:+0100
TZOFFSETTO:+0200
TZNAME:CEST
DTSTART:20240331T010000
END:DAYLIGHT
BEGIN:STANDARD
TZOFFSETFROM:+0200
TZOFFSETTO:+0100
TZNAME:CET
DTSTART:20241027T010000
END:STANDARD
BEGIN:DAYLIGHT
TZOFFSETFROM:+0100
TZOFFSETTO:+0200
TZNAME:CEST
DTSTART:20250330T010000
END:DAYLIGHT
BEGIN:STANDARD
TZOFFSETFROM:+0200
TZOFFSETTO:+0100
TZNAME:CET
DTSTART:20251026T010000
END:STANDARD
BEGIN:DAYLIGHT
TZOFFSETFROM:+0100
TZOFFSETTO:+0200
TZNAME:CEST
DTSTART:20260329T010000
END:DAYLIGHT
BEGIN:STANDARD
TZOFFSETFROM:+0200
TZOFFSETTO:+0100
TZNAME:CET
DTSTART:20261025T010000
END:STANDARD
END:VTIMEZONE
BEGIN:VEVENT
DTSTART;TZID=Europe/Paris:20250908T000000
DTEND;TZID=Europe/Paris:20251004T000000
DTSTAMP:20260426T034057
CREATED:20250818T143747Z
LAST-MODIFIED:20250917T190022Z
UID:1520-1757289600-1759536000@adrs85.fr
SUMMARY:Nouveau l' Aquagym à AQUABELL
DESCRIPTION:Chers membres\, \n\nNous avons le plaisir de vous annoncer un nouvel accord qui profite à tous les adhérents de notre association ! Vous pouvez désormais bénéficier d’une offre exclusive avec le centre AQUABELL à Belleville-sur-Vie.\n\nVoici les détails :\n\n. Inscription directement à l’accueil d’ AQUABELL:\n Sur place\, vous pourrez vous inscrire et découvrir le centre ainsi que son fonctionnement. N’oubliez pas de montrer votre carte d’adhérent ADRS. Si vous ne l’avez pas demandée lors de votre inscription\, pensez à le faire\, car cette année\, elle ne sera distribuée que pour l’aquafitness.\n\n. Réduction Spéciale :\n En tant qu’adhérent\, vous aurez une réduction de 30 € pour 10 cours d’aquagym ou d’aquavélo\, soit 120 € au lieu de 150 €. Vous disposerez de 6 mois pour utiliser vos 10 séances.\n\nNous vous encourageons à profiter de cette opportunité pour découvrir les bienfaits de l’aquagym et de l’aquavélo dans un cadre agréable.\n\nN’hésitez pas à nous contacter si vous avez des questions !\n\nSportivement\,\n\nLe bureau de l’ADRS\n\n\n\n\n 
URL:https://adrs85.fr/evenement/aquafitness/
END:VEVENT
BEGIN:VEVENT
DTSTART;TZID=Europe/Paris:20250927T093000
DTEND;TZID=Europe/Paris:20250927T123000
DTSTAMP:20260426T034057
CREATED:20250918T121751Z
LAST-MODIFIED:20250918T122437Z
UID:1019-1758965400-1758976200@adrs85.fr
SUMMARY:Bien vivre sa Retraite
DESCRIPTION:La commune vous donne rendez-vous pour le village prévention  » Bien vivre sa Retraite » \n  \nAu programme : \nconférences\, ateliers pratiques\, camions santé et temps d’échanges autour de la prévention\, de la santé et du bien vieillir. \nÉvénement gratuit
URL:https://adrs85.fr/evenement/bien-vivre-sa-retraite/
LOCATION:Mairie\, Dompierre Sur Yon\, France
END:VEVENT
END:VCALENDAR